BEGIN:VCALENDAR
VERSION:2.0
PRODID:-//wp-events-plugin.com//7.2.3.1//EN
TZID:America/Chicago
X-WR-TIMEZONE:America/Chicago
BEGIN:VEVENT
UID:1995@thenatureinstitute.org
DTSTART;TZID=America/Chicago:20250923T153000
DTEND;TZID=America/Chicago:20250923T170000
DTSTAMP:20250612T191723Z
URL:https://www.thenatureinstitute.org/events/after-school-explorers-fanta
 stic-beasts-and-where-to-find-them-2025-09-23/
SUMMARY:After School Explorers: Fantastic Beasts and Where to Find Them
DESCRIPTION:After School Explorers is an after school drop-off program for 
 elementary students (1st - 5th grade). This year\, students will meet week
 ly on Tuesdays from 3:30 - 5 pm to explore the preserve and learn more abo
 ut nature. Registration is by the month. 5 child minimum\, 14 child max.\n
 \nProgram Fees: $50/child. Pre-registration is required. Family level memb
 ers or higher receive 15% off.\n\nSeptember 9\, 16\, 23\, and 30\n\n[fusio
 n_button link="https://app.amilia.com/store/en/nature-institute/api/Activi
 ty/Detail?activityId=xAoGDP6" enable_hover_text_icon="no" hover_text="" ti
 tle="" target="_self" link_attributes="" aria_role_button="0" alignment_me
 dium="" alignment_small="" alignment="" modal="" hide_on_mobile="small-vis
 ibility\,medium-visibility\,large-visibility" sticky_display="normal\,stic
 ky" class="" id="" color="default" button_gradient_top_color_hover="" hue=
 "" saturation="" lightness="" alpha="" button_gradient_top_color="" button
 _gradient_bottom_color_hover="" button_gradient_bottom_color="" gradient_s
 tart_position="" gradient_end_position="" gradient_type="" radial_directio
 n="" linear_angle="" accent_hover_color="" accent_color="" type="" bevel_c
 olor="" bevel_color_hover="" border_top="" border_right="" border_bottom="
 " border_left="" border_radius_top_left="" border_radius_top_right="" bord
 er_radius_bottom_right="" border_radius_bottom_left="" border_hover_color=
 "" border_color="" size="" padding_top="" padding_right="" padding_bottom=
 "" padding_left="" fusion_font_family_button_font="" fusion_font_variant_b
 utton_font="" font_size="" line_height="" letter_spacing="" text_transform
 ="" stretch="default" margin_top="" margin_right="" margin_bottom="" margi
 n_left="" icon="" hover_icon="" icon_position="left" icon_divider="no" hov
 er_transition="none" animation_type="" animation_direction="left" animatio
 n_color="" animation_speed="0.3" animation_delay="0" animation_offset=""]R
 egister Here[/fusion_button]
ATTACH;FMTTYPE=image/jpeg:https://www.thenatureinstitute.org/wp-content/up
 loads/2025/06/16.png
CATEGORIES:Elementary School
LOCATION:The Nature Institute\, 2213 South Levis Lane\, Godfrey\, IL\, 6203
 5\, United States
X-APPLE-STRUCTURED-LOCATION;VALUE=URI;X-ADDRESS=2213 South Levis Lane\, God
 frey\, IL\, 62035\, United States;X-APPLE-RADIUS=100;X-TITLE=The Nature In
 stitute:geo:0,0
END:VEVENT
BEGIN:VTIMEZONE
TZID:America/Chicago
X-LIC-LOCATION:America/Chicago
BEGIN:DAYLIGHT
DTSTART:20250309T030000
TZOFFSETFROM:-0600
TZOFFSETTO:-0500
TZNAME:CDT
END:DAYLIGHT
END:VTIMEZONE
END:VCALENDAR