BEGIN:VCALENDAR
VERSION:2.0
PRODID:-//wp-events-plugin.com//7.2.3.1//EN
TZID:America/Chicago
X-WR-TIMEZONE:America/Chicago
BEGIN:VEVENT
UID:1688@thenatureinstitute.org
DTSTART;TZID=America/Chicago:20240904T153000
DTEND;TZID=America/Chicago:20240904T173000
DTSTAMP:20240722T162848Z
URL:https://www.thenatureinstitute.org/events/after-school-explorers-track
 s-scat-2024-09-04/
SUMMARY:After School Explorers: Tracks & Scat
DESCRIPTION:After School Explorers (previously Discovery Nature Club) is an
  after-school drop-off program for elementary students (1st - 5th grade). 
 This fall\, students will meet bi-weekly on Wednesdays from 3:30 - 5:30 pm
  to explore the preserve and learn more about nature. Registration is by t
 he month. See below for the monthly themes. 5 child minimum\, 14 child max
 .\n\nProgram Fees: $25/member\, $30/non-member. Pre-registration is requir
 ed.\n\n 	Tracks &amp\; Scat: September 4 and 18\n\nLearn more and register
 .\n\n[gravityform id="208" title="true" description="true" ajax="false"][/
 gravityform]
CATEGORIES:Elementary School
LOCATION:The Nature Institute\, 2213 South Levis Lane\, Godfrey\, IL\, 6203
 5\, United States
GEO:38.919376;-90.224167
X-APPLE-STRUCTURED-LOCATION;VALUE=URI;X-ADDRESS=2213 South Levis Lane\, God
 frey\, IL\, 62035\, United States;X-APPLE-RADIUS=100;X-TITLE=The Nature In
 stitute:geo:38.919376,-90.224167
END:VEVENT
BEGIN:VTIMEZONE
TZID:America/Chicago
X-LIC-LOCATION:America/Chicago
BEGIN:DAYLIGHT
DTSTART:20240310T030000
TZOFFSETFROM:-0600
TZOFFSETTO:-0500
TZNAME:CDT
END:DAYLIGHT
END:VTIMEZONE
END:VCALENDAR