BEGIN:VCALENDAR
VERSION:2.0
PRODID:-//wp-events-plugin.com//7.2.3.1//EN
TZID:America/Chicago
X-WR-TIMEZONE:America/Chicago
BEGIN:VEVENT
UID:1786@thenatureinstitute.org
DTSTART;TZID=America/Chicago:20241012T110000
DTEND;TZID=America/Chicago:20241012T120000
DTSTAMP:20241008T161125Z
URL:https://www.thenatureinstitute.org/events/bear-hunt-hike/
SUMMARY:Bear Hunt Hike (FULL)
DESCRIPTION:We’re going on a bear hunt at TNI! Ages 3 - 7 are invited to 
 explore fun materials\, complete silly activities\, and go on a short hike
  to find a bear. Kids will take home their very own teddy bear at the end 
 of the program. \n\nSaturday\, October 12th\, 11 am - 12 pm. 5 child minim
 um\, 15 child max.\n\nProgram Fees: $10/members\, $15/non-members. Be sure
  to wear clothes and shoes that can get messy!\n\nThis program is sold out
 . Please call (618) 466-9930 to be added to the waitlist.\n\n[gravityform 
 id="214" title="true" description="true" ajax="false"][/gravityform]
CATEGORIES:Family
LOCATION:The Nature Institute\, 2213 South Levis Lane\, Godfrey\, IL\, 6203
 5\, United States
GEO:38.919376;-90.224167
X-APPLE-STRUCTURED-LOCATION;VALUE=URI;X-ADDRESS=2213 South Levis Lane\, God
 frey\, IL\, 62035\, United States;X-APPLE-RADIUS=100;X-TITLE=The Nature In
 stitute:geo:38.919376,-90.224167
END:VEVENT
BEGIN:VTIMEZONE
TZID:America/Chicago
X-LIC-LOCATION:America/Chicago
BEGIN:DAYLIGHT
DTSTART:20240310T030000
TZOFFSETFROM:-0600
TZOFFSETTO:-0500
TZNAME:CDT
END:DAYLIGHT
END:VTIMEZONE
END:VCALENDAR