BEGIN:VCALENDAR
VERSION:2.0
PRODID:-//wp-events-plugin.com//7.2.3.1//EN
TZID:America/Chicago
X-WR-TIMEZONE:America/Chicago
BEGIN:VEVENT
UID:2216@thenatureinstitute.org
DTSTART;TZID=America/Chicago:20260128T100000
DTEND;TZID=America/Chicago:20260128T113000
DTSTAMP:20251022T161252Z
URL:https://www.thenatureinstitute.org/events/eco-homeschool-adventures-wi
 nter-trees-and-evergreens/
SUMMARY:ECO Homeschool Adventures: Winter Trees and Evergreens
DESCRIPTION:[fusion_button link="https://app.amilia.com/store/en/nature-ins
 titute/api/Activity/Detail?activityId=xELlg6j" enable_hover_text_icon="no"
  hover_text="" title="" target="_self" link_attributes="" aria_role_button
 ="0" alignment_medium="" alignment_small="" alignment="" modal="" hide_on_
 mobile="small-visibility\,medium-visibility\,large-visibility" sticky_disp
 lay="normal\,sticky" class="" id="" color="default" button_gradient_top_co
 lor_hover="" hue="" saturation="" lightness="" alpha="" button_gradient_to
 p_color="" button_gradient_bottom_color_hover="" button_gradient_bottom_co
 lor="" gradient_start_position="" gradient_end_position="" gradient_type="
 " radial_direction="" linear_angle="" accent_hover_color="" accent_color="
 " type="" bevel_color="" bevel_color_hover="" border_top="" border_right="
 " border_bottom="" border_left="" border_radius_top_left="" border_radius_
 top_right="" border_radius_bottom_right="" border_radius_bottom_left="" bo
 rder_hover_color="" border_color="" size="" padding_top="" padding_right="
 " padding_bottom="" padding_left="" fusion_font_family_button_font="" fusi
 on_font_variant_button_font="" font_size="" line_height="" letter_spacing=
 "" text_transform="" stretch="default" margin_top="" margin_right="" margi
 n_bottom="" margin_left="" icon="" hover_icon="" icon_position="left" icon
 _divider="no" hover_transition="none" animation_type="" animation_directio
 n="left" animation_color="" animation_speed="0.3" animation_delay="0" anim
 ation_offset=""]Register Here[/fusion_button]\nWinter Trees and Evergreens
 \nLearn to identify trees in the winter by their buds\, branching\, and ba
 rk! We’ll also investigate evergreens and the secret to their bright col
 ors year round.\nDescription:\nCalling all homeschool families! This progr
 am takes place on select Wednesdays and occasional Tuesdays. Our Elementar
 y sessions meet from 10 – 11:30 am\, and our Middle &amp\; High School s
 ession meets from 1 – 3 pm. Sessions fill up quickly\, so register early
  for your preferred dates.\nOur sessions may include hikes\, nature explor
 ation\, games\, experiments\, art projects\, or scientific surveys. Partic
 ipants in our younger sessions will also receive extension activities that
  can be completed at home with their whole family. Topics rotate each mont
 h and sessions are offered August through May.\nProgram Fees:\n$12/child.
   Parents/guardians are free.\nGet 15% off by becoming a member at the fa
 mily level!\nRegistration Required:\nYes\nThings to Bring:\nWater Bottle
ATTACH;FMTTYPE=image/jpeg:https://www.thenatureinstitute.org/wp-content/up
 loads/2025/06/6-1.png
CATEGORIES:Elementary School
LOCATION:The Nature Institute\, 2213 South Levis Lane\, Godfrey\, IL\, 6203
 5\, United States
X-APPLE-STRUCTURED-LOCATION;VALUE=URI;X-ADDRESS=2213 South Levis Lane\, God
 frey\, IL\, 62035\, United States;X-APPLE-RADIUS=100;X-TITLE=The Nature In
 stitute:geo:0,0
END:VEVENT
BEGIN:VTIMEZONE
TZID:America/Chicago
X-LIC-LOCATION:America/Chicago
BEGIN:STANDARD
DTSTART:20251102T010000
TZOFFSETFROM:-0500
TZOFFSETTO:-0600
TZNAME:CST
END:STANDARD
END:VTIMEZONE
END:VCALENDAR