BEGIN:VCALENDAR
VERSION:2.0
PRODID:-//wp-events-plugin.com//7.2.3.1//EN
TZID:America/Chicago
X-WR-TIMEZONE:America/Chicago
BEGIN:VEVENT
UID:2311@thenatureinstitute.org
DTSTART;TZID=America/Chicago:20260627T140000
DTEND;TZID=America/Chicago:20260627T153000
DTSTAMP:20260210T172531Z
URL:https://www.thenatureinstitute.org/events/ecology-and-identification-o
 f-common-woodland-ferns-in-illinois/
SUMMARY:Ecology and Identification of Common Woodland Ferns in Illinois
DESCRIPTION:[fusion_button link="https://app.amilia.com/store/en/nature-ins
 titute/shop/activities/6718433?date=2026-06-27&amp\;view=month&amp\;scroll
 ToCalendar=false" enable_hover_text_icon="no" hover_text="" title="" targe
 t="_self" link_attributes="" aria_role_button="0" alignment_medium="" alig
 nment_small="" alignment="" modal="" hide_on_mobile="small-visibility\,med
 ium-visibility\,large-visibility" sticky_display="normal\,sticky" class=""
  id="" html_attributes="W10=" color="default" button_gradient_top_color_ho
 ver="" hue="" saturation="" lightness="" alpha="" button_gradient_top_colo
 r="" button_gradient_bottom_color_hover="" button_gradient_bottom_color=""
  gradient_start_position="" gradient_end_position="" gradient_type="" radi
 al_direction="" linear_angle="" accent_hover_color="" accent_color="" type
 ="" bevel_color="" bevel_color_hover="" border_top="" border_right="" bord
 er_bottom="" border_left="" border_radius_top_left="" border_radius_top_ri
 ght="" border_radius_bottom_right="" border_radius_bottom_left="" border_h
 over_color="" border_color="" size="" padding_top="" padding_right="" padd
 ing_bottom="" padding_left="" fusion_font_family_button_font="" fusion_fon
 t_variant_button_font="" font_size="" line_height="" letter_spacing="" tex
 t_transform="" stretch="default" margin_top="" margin_right="" margin_bott
 om="" margin_left="" icon="" hover_icon="" icon_position="left" icon_divid
 er="no" hover_transition="none" render_logics="" animation_type="" animati
 on_direction="left" animation_color="" animation_speed="0.3" animation_del
 ay="0" animation_offset=""]Register Here[/fusion_button]\n\nJoin Christoph
 er Evans\, a forester of U of I Extension\, to learn all about ferns!\n\nF
 erns are a spore-producing ancient lineage of vascular plants with a fasci
 nating and complex life cycle.  They are an integral part of Illinois eco
 systems. This presentation will cover the life history\, diversity\, anato
 my\, and ecology of ferns.  While ferns can occur in many different habit
 ats\, this presentation will end on how to identify some of the common fer
 ns found in Illinois woodlands.\n\nStick around after the presentation for
  an optional hike to see some of our local fern species.\n\n&nbsp\;
ATTACH;FMTTYPE=image/jpeg:https://www.thenatureinstitute.org/wp-content/up
 loads/2026/02/Amilia-Activity-Images-Adult-and-Family-28.jpg
CATEGORIES:Adult,Teen
LOCATION:The Nature Institute\, 2213 South Levis Lane\, Godfrey\, IL\, 6203
 5\, United States
X-APPLE-STRUCTURED-LOCATION;VALUE=URI;X-ADDRESS=2213 South Levis Lane\, God
 frey\, IL\, 62035\, United States;X-APPLE-RADIUS=100;X-TITLE=The Nature In
 stitute:geo:0,0
END:VEVENT
BEGIN:VTIMEZONE
TZID:America/Chicago
X-LIC-LOCATION:America/Chicago
BEGIN:DAYLIGHT
DTSTART:20260308T030000
TZOFFSETFROM:-0600
TZOFFSETTO:-0500
TZNAME:CDT
END:DAYLIGHT
END:VTIMEZONE
END:VCALENDAR