BEGIN:VCALENDAR
VERSION:2.0
PRODID:-//wp-events-plugin.com//7.2.3.1//EN
TZID:America/Chicago
X-WR-TIMEZONE:America/Chicago
BEGIN:VEVENT
UID:1872@thenatureinstitute.org
DTSTART;TZID=America/Chicago:20250507T100000
DTEND;TZID=America/Chicago:20250507T113000
DTSTAMP:20241114T143401Z
URL:https://www.thenatureinstitute.org/events/ecomay1/
SUMMARY:ECO Homeschool Adventures: Forestry Fundamentals
DESCRIPTION:[fusion_button link="https://app.amilia.com/store/en/nature-ins
 titute/api/Activity/Detail?activityId=yQ9RgwQ" title="" target="_self" lin
 k_attributes="" aria_role_button="0" alignment_medium="" alignment_small="
 " alignment="" modal="" hide_on_mobile="small-visibility\,medium-visibilit
 y\,large-visibility" sticky_display="normal\,sticky" class="" id="" color=
 "default" button_gradient_top_color_hover="" hue="" saturation="" lightnes
 s="" alpha="" button_gradient_top_color="" button_gradient_bottom_color_ho
 ver="" button_gradient_bottom_color="" gradient_start_position="" gradient
 _end_position="" gradient_type="" radial_direction="" linear_angle="180" a
 ccent_hover_color="" accent_color="" type="" bevel_color="" bevel_color_ho
 ver="" border_top="" border_right="" border_bottom="" border_left="" borde
 r_radius_top_left="" border_radius_top_right="" border_radius_bottom_right
 ="" border_radius_bottom_left="" border_hover_color="" border_color="" siz
 e="" padding_top="" padding_right="" padding_bottom="" padding_left="" fus
 ion_font_family_button_font="" fusion_font_variant_button_font="" font_siz
 e="" line_height="" letter_spacing="" text_transform="" stretch="default" 
 margin_top="" margin_right="" margin_bottom="" margin_left="" icon="" icon
 _position="left" icon_divider="no" hover_transition="none" animation_type=
 "" animation_direction="left" animation_color="" animation_speed="0.3" ani
 mation_delay="0" animation_offset=""]Register Here[/fusion_button]\nForest
 ry Fundamentals\nLearn the basics of forestry through examining tree cooki
 es\, exploring special tree adaptations\, and discovering the elements of 
 a healthy forest.\nDescription:\nCalling all homeschool families! This pro
 gram takes place on select Wednesdays and occasional Tuesdays. Our Element
 ary sessions meet from 10 – 11:30 am\, and our Middle &amp\; High School
  session meets from 1 – 3 pm. Sessions fill up quickly\, so register ear
 ly for your preferred dates.\nOur sessions may include hikes\, nature expl
 oration\, games\, experiments\, art projects\, or scientific surveys. Part
 icipants in our younger sessions will also receive extension activities th
 at can be completed at home with their whole family. Topics rotate each mo
 nth and sessions are offered August through May.\nProgram Fees:\n$10/child
 .  Parents/guardians are free.\nGet 15% off by becoming a member at the f
 amily level!\nRegistration Required:\nYes\nRegister Here.\nThings to Bring
 :\nWater Bottle\n&nbsp\;
ATTACH;FMTTYPE=image/jpeg:https://www.thenatureinstitute.org/wp-content/up
 loads/2024/10/Come-and-explore.-Facebook-Event-Cover-Facebook-Post-6.png
CATEGORIES:Elementary School
LOCATION:The Nature Institute\, 2213 South Levis Lane\, Godfrey\, IL\, 6203
 5\, United States
X-APPLE-STRUCTURED-LOCATION;VALUE=URI;X-ADDRESS=2213 South Levis Lane\, God
 frey\, IL\, 62035\, United States;X-APPLE-RADIUS=100;X-TITLE=The Nature In
 stitute:geo:0,0
END:VEVENT
BEGIN:VTIMEZONE
TZID:America/Chicago
X-LIC-LOCATION:America/Chicago
BEGIN:DAYLIGHT
DTSTART:20250309T030000
TZOFFSETFROM:-0600
TZOFFSETTO:-0500
TZNAME:CDT
END:DAYLIGHT
END:VTIMEZONE
END:VCALENDAR