BEGIN:VCALENDAR
VERSION:2.0
PRODID:-//wp-events-plugin.com//7.2.3.1//EN
TZID:America/Chicago
X-WR-TIMEZONE:America/Chicago
BEGIN:VEVENT
UID:1623@thenatureinstitute.org
DTSTART;TZID=America/Chicago:20240320T100000
DTEND;TZID=America/Chicago:20240320T113000
DTSTAMP:20231207T163417Z
URL:https://www.thenatureinstitute.org/events/ecowatercycles/
SUMMARY:ECO Homeschool Adventure: Wonderful Water Cycles
DESCRIPTION:Calling all homeschool families! This new program offering take
 s place the 3rd Wednesday of the month from 10 - 11:30 am. Lessons may inc
 lude hikes\, nature exploration\, games\, experiments\, and scientific sur
 veys. All parents/guardians will also receive extension activities that ca
 n be completed at home with their whole family.\n\nThis program is geared 
 towards students in K - 5th that are learning from home\, but older siblin
 gs are welcome to attend. Siblings 2 and under are free. Parents/guardians
  are required to attend with children. See below for upcoming dates. $7/ch
 ild for non-members\, $5/child for members. Parents/guardians are free. Pr
 e-registration is required. \n\n 	March 20: Wonderful Water Cycles\n\n 	R
 ound and round we go\, exploring the water cycle! Play a game as a water d
 roplet\, learn about our local watershed\, and discover what makes water s
 o important. \n\n\n\nRegister Here
ATTACH;FMTTYPE=image/jpeg:https://www.thenatureinstitute.org/wp-content/up
 loads/2023/05/12.png
CATEGORIES:Elementary School,Family
LOCATION:The Nature Institute\, 2213 South Levis Lane\, Godfrey\, IL\, 6203
 5\, United States
GEO:38.919376;-90.224167
X-APPLE-STRUCTURED-LOCATION;VALUE=URI;X-ADDRESS=2213 South Levis Lane\, God
 frey\, IL\, 62035\, United States;X-APPLE-RADIUS=100;X-TITLE=The Nature In
 stitute:geo:38.919376,-90.224167
END:VEVENT
BEGIN:VTIMEZONE
TZID:America/Chicago
X-LIC-LOCATION:America/Chicago
BEGIN:DAYLIGHT
DTSTART:20240310T030000
TZOFFSETFROM:-0600
TZOFFSETTO:-0500
TZNAME:CDT
END:DAYLIGHT
END:VTIMEZONE
END:VCALENDAR