BEGIN:VCALENDAR
VERSION:2.0
PRODID:-//wp-events-plugin.com//7.2.3.1//EN
TZID:America/Chicago
X-WR-TIMEZONE:America/Chicago
BEGIN:VEVENT
UID:1399@thenatureinstitute.org
DTSTART;TZID=America/Chicago:20230812T083000
DTEND;TZID=America/Chicago:20230812T123000
DTSTAMP:20230131T170518Z
URL:https://www.thenatureinstitute.org/events/family-camp-daytime/
SUMMARY:Family Camp - Daytime
DESCRIPTION:Ready to experience the magic of camp? This 1 day camp is for t
 he whole family and replicates our Discovery Day Camp experience! Families
  have the option between 2 dates and times. 1 meal is included in the regi
 stration fee. Minimum of 1 parent/guardian must accompany their child to t
 his program.\n\nCost: $20/person for members\, $25/person for non-members
 \n\nDaytime family camp is recommended for ages 4 and up! Join our camp st
 aff for a creek walk\, water games\, art activities\, and then finish with
  lunch over the fire.\n\nRegister Here
ATTACH;FMTTYPE=image/jpeg:https://www.thenatureinstitute.org/wp-content/up
 loads/2023/01/Come-and-explore.-5.png
CATEGORIES:Family
LOCATION:The Nature Institute\, 2213 South Levis Lane\, Godfrey\, IL\, 6203
 5\, United States
GEO:38.919376;-90.224167
X-APPLE-STRUCTURED-LOCATION;VALUE=URI;X-ADDRESS=2213 South Levis Lane\, God
 frey\, IL\, 62035\, United States;X-APPLE-RADIUS=100;X-TITLE=The Nature In
 stitute:geo:38.919376,-90.224167
END:VEVENT
BEGIN:VTIMEZONE
TZID:America/Chicago
X-LIC-LOCATION:America/Chicago
BEGIN:DAYLIGHT
DTSTART:20230312T030000
TZOFFSETFROM:-0600
TZOFFSETTO:-0500
TZNAME:CDT
END:DAYLIGHT
END:VTIMEZONE
END:VCALENDAR