BEGIN:VCALENDAR
VERSION:2.0
PRODID:-//wp-events-plugin.com//7.2.3.1//EN
TZID:America/Chicago
X-WR-TIMEZONE:America/Chicago
BEGIN:VEVENT
UID:1937@thenatureinstitute.org
DTSTART;TZID=America/Chicago:20250614T093000
DTEND;TZID=America/Chicago:20250614T113000
DTSTAMP:20241209T195322Z
URL:https://www.thenatureinstitute.org/events/forest-bathing-3/
SUMMARY:Forest Bathing
DESCRIPTION:Forest Bathing\n\n[fusion_button link="https://app.amilia.com/s
 tore/en/nature-institute/api/Activity/Detail?activityId=x5Xl543" title="" 
 target="_self" link_attributes="" aria_role_button="0" alignment_medium=""
  alignment_small="" alignment="" modal="" hide_on_mobile="small-visibility
 \,medium-visibility\,large-visibility" sticky_display="normal\,sticky" cla
 ss="" id="" color="default" button_gradient_top_color_hover="" hue="" satu
 ration="" lightness="" alpha="" button_gradient_top_color="" button_gradie
 nt_bottom_color_hover="" button_gradient_bottom_color="" gradient_start_po
 sition="" gradient_end_position="" gradient_type="" radial_direction="" li
 near_angle="180" accent_hover_color="" accent_color="" type="" bevel_color
 ="" bevel_color_hover="" border_top="" border_right="" border_bottom="" bo
 rder_left="" border_radius_top_left="" border_radius_top_right="" border_r
 adius_bottom_right="" border_radius_bottom_left="" border_hover_color="" b
 order_color="" size="" padding_top="" padding_right="" padding_bottom="" p
 adding_left="" fusion_font_family_button_font="" fusion_font_variant_butto
 n_font="" font_size="" line_height="" letter_spacing="" text_transform="" 
 stretch="default" margin_top="" margin_right="" margin_bottom="" margin_le
 ft="" icon="" icon_position="left" icon_divider="no" hover_transition="non
 e" animation_type="" animation_direction="left" animation_color="" animati
 on_speed="0.3" animation_delay="0" animation_offset=""]Register Here[/fusi
 on_button]\n\nDescription:\n\n 	Join Jess Thenhaus\, a certified Forest &a
 mp\; Nature Therapy Guide\, for a unique outdoor experience at The Nature 
 Institute. Forest Bathing is a practice that supports health and wellness 
 through guided immersion in forests and other environments to promote the 
 well-being of both people and the land. Unplug and unwind as you connect w
 ith nature and the ‘more than human world’ in this immersive sensory e
 xperience. Experience the healing and wellness- promoting effects of Shinr
 in-Yoku (forest bathing)\, the practice of bathing in the senses in the at
 mosphere of the forest.\n 	This is not a strenuous hike in the woods\, but
  rather a gentle\, leisurely walk designed to allow time and stress to mel
 t away as you sink comfortably into the peace of presence that nature can 
 provide.\n 	In a safe and welcoming environment\, you’ll be guided throu
 gh a series of invitations that will allow you to tune into your surroundi
 ngs and explore nature through your senses.\n\nProgram Fees:\n\n 	$35/pers
 on\n 	Get 15% off with membership\n\nRegistration Required:\n\n 	Yes\n\nTh
 ings to Bring:\n\n 	Water Bottle\n\n&nbsp\;
ATTACH;FMTTYPE=image/jpeg:https://www.thenatureinstitute.org/wp-content/up
 loads/2024/12/Amilia-Activity-Images-Adult-and-Family-15.png
CATEGORIES:Adult
LOCATION:The Nature Institute\, 2213 South Levis Lane\, Godfrey\, IL\, 6203
 5\, United States
X-APPLE-STRUCTURED-LOCATION;VALUE=URI;X-ADDRESS=2213 South Levis Lane\, God
 frey\, IL\, 62035\, United States;X-APPLE-RADIUS=100;X-TITLE=The Nature In
 stitute:geo:0,0
END:VEVENT
BEGIN:VTIMEZONE
TZID:America/Chicago
X-LIC-LOCATION:America/Chicago
BEGIN:DAYLIGHT
DTSTART:20250309T030000
TZOFFSETFROM:-0600
TZOFFSETTO:-0500
TZNAME:CDT
END:DAYLIGHT
END:VTIMEZONE
END:VCALENDAR