BEGIN:VCALENDAR
VERSION:2.0
PRODID:-//wp-events-plugin.com//7.2.3.1//EN
TZID:America/Chicago
X-WR-TIMEZONE:America/Chicago
BEGIN:VEVENT
UID:1621@thenatureinstitute.org
DTSTART;TZID=America/Chicago:20240316T183000
DTEND;TZID=America/Chicago:20240316T200000
DTSTAMP:20231206T202838Z
URL:https://www.thenatureinstitute.org/events/frogwalk/
SUMMARY:Frog Walk
DESCRIPTION:Let’s hop over to our ponds to find some frogs! Join guest na
 turalist\, Paul Shetley\, to search for frogs and toads on the preserve. T
 he program will begin with an indoor presentation on frogs and toads of so
 uthern Illinois\, followed by an outdoor portion to search for amphibians 
 out at the pond. This program takes place on Saturday\, March 16th at 6:30
  pm and will run 1 - 1.5 hours. Flashlights and waterproof boots are encou
 raged! $5/members and $15/non-members. Pre-registration is required.\n\n[g
 ravityform id="183" title="true" description="true" ajax="false"][/gravity
 form]
ATTACH;FMTTYPE=image/jpeg:https://www.thenatureinstitute.org/wp-content/up
 loads/2023/12/Come-and-explore.-22.png
CATEGORIES:Family
LOCATION:The Nature Institute\, 2213 South Levis Lane\, Godfrey\, IL\, 6203
 5\, United States
GEO:38.919376;-90.224167
X-APPLE-STRUCTURED-LOCATION;VALUE=URI;X-ADDRESS=2213 South Levis Lane\, God
 frey\, IL\, 62035\, United States;X-APPLE-RADIUS=100;X-TITLE=The Nature In
 stitute:geo:38.919376,-90.224167
END:VEVENT
BEGIN:VTIMEZONE
TZID:America/Chicago
X-LIC-LOCATION:America/Chicago
BEGIN:DAYLIGHT
DTSTART:20240310T030000
TZOFFSETFROM:-0600
TZOFFSETTO:-0500
TZNAME:CDT
END:DAYLIGHT
END:VTIMEZONE
END:VCALENDAR