BEGIN:VCALENDAR
VERSION:2.0
PRODID:-//wp-events-plugin.com//7.2.3.1//EN
TZID:America/Chicago
X-WR-TIMEZONE:America/Chicago
BEGIN:VEVENT
UID:1394@thenatureinstitute.org
DTSTART;TZID=America/Chicago:20230506T130000
DTEND;TZID=America/Chicago:20230506T143000
DTSTAMP:20230109T170954Z
URL:https://www.thenatureinstitute.org/events/hike-a-thon-finish-line-even
 t/
SUMMARY:Hike-a-thon Finish Line Event
DESCRIPTION:Thank you everyone who supported The Nature Institute through t
 he April Hike-a-thon. We want to congratulate all of our hikers and say th
 ank you in person at our Finish Line Event.\n\nPrizes will be announced an
 d given out\, and you can join TNI educators for a group hike around the p
 roperty.
ATTACH;FMTTYPE=image/jpeg:https://www.thenatureinstitute.org/wp-content/up
 loads/2022/10/11.png
CATEGORIES:Adult,Family
LOCATION:The Nature Institute\, 2213 South Levis Lane\, Godfrey\, IL\, 6203
 5\, United States
GEO:38.919376;-90.224167
X-APPLE-STRUCTURED-LOCATION;VALUE=URI;X-ADDRESS=2213 South Levis Lane\, God
 frey\, IL\, 62035\, United States;X-APPLE-RADIUS=100;X-TITLE=The Nature In
 stitute:geo:38.919376,-90.224167
END:VEVENT
BEGIN:VTIMEZONE
TZID:America/Chicago
X-LIC-LOCATION:America/Chicago
BEGIN:DAYLIGHT
DTSTART:20230312T030000
TZOFFSETFROM:-0600
TZOFFSETTO:-0500
TZNAME:CDT
END:DAYLIGHT
END:VTIMEZONE
END:VCALENDAR