BEGIN:VCALENDAR
VERSION:2.0
PRODID:-//wp-events-plugin.com//7.2.3.1//EN
TZID:America/Chicago
X-WR-TIMEZONE:America/Chicago
BEGIN:VEVENT
UID:1393@thenatureinstitute.org
DTSTART;TZID=America/Chicago:20230401T090000
DTEND;TZID=America/Chicago:20230401T120000
DTSTAMP:20230109T170248Z
URL:https://www.thenatureinstitute.org/events/hike-a-thon-packet-pickup/
SUMMARY:Hike-a-thon Packet Pickup
DESCRIPTION:\n\nRegister by 3/15/22 to receive a commemorative Hike-A-Thon 
 T-shirt!\n\nLog miles to support The Nature Institute! This month-long fun
 draiser is all about hitting the trails\, enjoying nature\, and supporting
  our mission of restoration\, preservation\, and education. From April 1st
  to 30th\, hikers will compete for prizes by logging hikes and collecting 
 support from their friends and family! Registrants can compete in their ow
 n time\, according to their own schedule. The fee to register is just $25/
 member + $2.50 processing fee.\n\n\n\n\nAll of the money raised by Hike-A-
 Thon participants goes directly into supporting our mission of restoration
 \, preservation\, and education. These funds assist us with restoring land
 \, sending kids to camp that typically would not be able to\, supporting o
 ur education programming\, and removing invasive species from the property
 .\n\nCost: $25/person\n\nIncluded in cost: Website log\, commemorative T
 NI Hike-A-Thon shirt\, and a spot at our Finish Line Celebration! You are 
 also eligible for all of our fun prizes.\n\nDates: April 1st – 30th\, 20
 23\n\n
ATTACH;FMTTYPE=image/jpeg:https://www.thenatureinstitute.org/wp-content/up
 loads/2022/10/11.png
CATEGORIES:Adult,Family
LOCATION:The Nature Institute\, 2213 South Levis Lane\, Godfrey\, IL\, 6203
 5\, United States
GEO:38.919376;-90.224167
X-APPLE-STRUCTURED-LOCATION;VALUE=URI;X-ADDRESS=2213 South Levis Lane\, God
 frey\, IL\, 62035\, United States;X-APPLE-RADIUS=100;X-TITLE=The Nature In
 stitute:geo:38.919376,-90.224167
END:VEVENT
BEGIN:VTIMEZONE
TZID:America/Chicago
X-LIC-LOCATION:America/Chicago
BEGIN:DAYLIGHT
DTSTART:20230312T030000
TZOFFSETFROM:-0600
TZOFFSETTO:-0500
TZNAME:CDT
END:DAYLIGHT
END:VTIMEZONE
END:VCALENDAR