BEGIN:VCALENDAR
VERSION:2.0
PRODID:-//wp-events-plugin.com//7.2.3.1//EN
TZID:America/Chicago
X-WR-TIMEZONE:America/Chicago
BEGIN:VEVENT
UID:1392@thenatureinstitute.org
DTSTART;TZID=America/Chicago:20230109T000000
DTEND;TZID=America/Chicago:20230109T234500
DTSTAMP:20230109T170012Z
URL:https://www.thenatureinstitute.org/events/hike-a-thon-registration-ope
 n/
SUMMARY:Hike-a-thon Registration Open
DESCRIPTION:Log miles to support The Nature Institute! This month-long fund
 raiser is all about hitting the trails\, enjoying nature\, and supporting 
 our mission of restoration\, preservation\, and education. From April 1st 
 to 30th\, hikers will compete for prizes by logging hikes and collecting s
 upport from their friends and family! Registrants can compete in their own
  time\, according to their own schedule. The fee to register is just $25/m
 ember + $2.50 processing fee.\n\nRegister Here
ATTACH;FMTTYPE=image/jpeg:https://www.thenatureinstitute.org/wp-content/up
 loads/2022/10/11.png
CATEGORIES:Adult,Family
LOCATION:The Nature Institute\, 2213 South Levis Lane\, Godfrey\, IL\, 6203
 5\, United States
GEO:38.919376;-90.224167
X-APPLE-STRUCTURED-LOCATION;VALUE=URI;X-ADDRESS=2213 South Levis Lane\, God
 frey\, IL\, 62035\, United States;X-APPLE-RADIUS=100;X-TITLE=The Nature In
 stitute:geo:38.919376,-90.224167
END:VEVENT
BEGIN:VTIMEZONE
TZID:America/Chicago
X-LIC-LOCATION:America/Chicago
BEGIN:STANDARD
DTSTART:20221106T010000
TZOFFSETFROM:-0500
TZOFFSETTO:-0600
TZNAME:CST
END:STANDARD
END:VTIMEZONE
END:VCALENDAR