BEGIN:VCALENDAR
VERSION:2.0
PRODID:-//wp-events-plugin.com//7.2.3.1//EN
TZID:America/Chicago
X-WR-TIMEZONE:America/Chicago
BEGIN:VEVENT
UID:1986@thenatureinstitute.org
DTSTART;TZID=America/Chicago:20250418T170000
DTEND;TZID=America/Chicago:20250418T200000
DTSTAMP:20250324T143644Z
URL:https://www.thenatureinstitute.org/events/kids-night-out/
SUMMARY:Kids Night Out
DESCRIPTION:Spring Explosion!\nThe flowers are blooming\, the sun is shinin
 g\, and we’re so excited we could EXPLODE! Join us for a night of games\
 , art\, and science activities to celebrate the arrival of spring.\nDescri
 ption:\nNeed an evening off? Join us for a Kids Night Out! This 3 hour dro
 p off program includes dinner and an evening of fun for ages 6 - 10. This 
 program is offered once a month on a Friday evening during the school year
 . Spaces are limited. 7 child minimum\, 16 child max.\nProgram Fees:\n$35\
 nGet 15% off by becoming a member at the family level!\nRegistration Requi
 red:\nYes\nThings to bring: \nReusable water bottle\nChange of Clothes (o
 ptional)
ATTACH;FMTTYPE=image/jpeg:https://www.thenatureinstitute.org/wp-content/up
 loads/2024/10/Come-and-explore.-Facebook-Event-Cover-Facebook-Post-1.png
CATEGORIES:Elementary School
LOCATION:The Nature Institute\, 2213 South Levis Lane\, Godfrey\, IL\, 6203
 5\, United States
X-APPLE-STRUCTURED-LOCATION;VALUE=URI;X-ADDRESS=2213 South Levis Lane\, God
 frey\, IL\, 62035\, United States;X-APPLE-RADIUS=100;X-TITLE=The Nature In
 stitute:geo:0,0
END:VEVENT
BEGIN:VTIMEZONE
TZID:America/Chicago
X-LIC-LOCATION:America/Chicago
BEGIN:DAYLIGHT
DTSTART:20250309T030000
TZOFFSETFROM:-0600
TZOFFSETTO:-0500
TZNAME:CDT
END:DAYLIGHT
END:VTIMEZONE
END:VCALENDAR