BEGIN:VCALENDAR
VERSION:2.0
PRODID:-//wp-events-plugin.com//7.2.3.1//EN
TZID:America/Chicago
X-WR-TIMEZONE:America/Chicago
BEGIN:VEVENT
UID:1700@thenatureinstitute.org
DTSTART;TZID=America/Chicago:20241002T100000
DTEND;TZID=America/Chicago:20241002T110000
DTSTAMP:20240417T144329Z
URL:https://www.thenatureinstitute.org/events/knee-high-naturalists-3-2024
 -10-02/
SUMMARY:Knee High Naturalists
DESCRIPTION:Put on some boots and bring your sense of adventure! Put on som
 e boots and bring your sense of exploration! This program is designed for 
 children ages 2.5 – 5 accompanied by an adult. Come and learn about natu
 re through story time\, art activities\, and outdoor exploration. This pro
 gram takes place on the 1st Wednesday and the 1st Saturday of the month fr
 om 10 – 11 am. 4 child minimum\, 15 child max.\n\nProgram Fees: $8/membe
 r\, $10/non-member. Pre-registration is required.\n\nWednesday Dates\n\n 	
 May 1 - Wing It\n 	August 7th – Shapes in Nature\n 	September 4th – Co
 lorful Creatures\n 	October 2nd – Underground Adventure\n 	November 6th 
 – Mighty Mississippi\n 	December 4th – Go Wild!\n\nSaturday Dates\n\n 
 	May 4 - Wing It\n 	June 1 - Sensational Summer\n 	July 6 - Forest Tea Par
 ty\n 	August 3rd – Shapes in Nature\n 	September 7th – Colorful Creatu
 res\n 	October 5th – Underground Adventure\n 	November 2nd – Mighty Mi
 ssissippi\n 	December 7th – Go Wild!\n\nLearn more and register.\n\n&nbs
 p\;
ATTACH;FMTTYPE=image/jpeg:https://www.thenatureinstitute.org/wp-content/up
 loads/2023/05/2.png
CATEGORIES:Early Childhood
LOCATION:The Nature Institute\, 2213 South Levis Lane\, Godfrey\, IL\, 6203
 5\, United States
GEO:38.919376;-90.224167
X-APPLE-STRUCTURED-LOCATION;VALUE=URI;X-ADDRESS=2213 South Levis Lane\, God
 frey\, IL\, 62035\, United States;X-APPLE-RADIUS=100;X-TITLE=The Nature In
 stitute:geo:38.919376,-90.224167
END:VEVENT
BEGIN:VTIMEZONE
TZID:America/Chicago
X-LIC-LOCATION:America/Chicago
BEGIN:DAYLIGHT
DTSTART:20240310T030000
TZOFFSETFROM:-0600
TZOFFSETTO:-0500
TZNAME:CDT
END:DAYLIGHT
END:VTIMEZONE
END:VCALENDAR