BEGIN:VCALENDAR
VERSION:2.0
PRODID:-//wp-events-plugin.com//7.2.3.1//EN
TZID:America/Chicago
X-WR-TIMEZONE:America/Chicago
BEGIN:VEVENT
UID:1836@thenatureinstitute.org
DTSTART;TZID=America/Chicago:20250402T100000
DTEND;TZID=America/Chicago:20250402T110000
DTSTAMP:20241114T143707Z
URL:https://www.thenatureinstitute.org/events/knee-high-naturalists-4-2025
 -04-02/
SUMMARY:Knee High Naturalists
DESCRIPTION:[fusion_button link="https://app.amilia.com/store/en/nature-ins
 titute/api/Activity/Detail?activityId=yGMz31G" title="" target="_self" lin
 k_attributes="" aria_role_button="0" alignment_medium="" alignment_small="
 " alignment="" modal="" hide_on_mobile="small-visibility\,medium-visibilit
 y\,large-visibility" sticky_display="normal\,sticky" class="" id="" color=
 "default" button_gradient_top_color_hover="" hue="" saturation="" lightnes
 s="" alpha="" button_gradient_top_color="" button_gradient_bottom_color_ho
 ver="" button_gradient_bottom_color="" gradient_start_position="" gradient
 _end_position="" gradient_type="" radial_direction="" linear_angle="180" a
 ccent_hover_color="" accent_color="" type="" bevel_color="" bevel_color_ho
 ver="" border_top="" border_right="" border_bottom="" border_left="" borde
 r_radius_top_left="" border_radius_top_right="" border_radius_bottom_right
 ="" border_radius_bottom_left="" border_hover_color="" border_color="" siz
 e="" padding_top="" padding_right="" padding_bottom="" padding_left="" fus
 ion_font_family_button_font="" fusion_font_variant_button_font="" font_siz
 e="" line_height="" letter_spacing="" text_transform="" stretch="default" 
 margin_top="" margin_right="" margin_bottom="" margin_left="" icon="" icon
 _position="left" icon_divider="no" hover_transition="none" animation_type=
 "" animation_direction="left" animation_color="" animation_speed="0.3" ani
 mation_delay="0" animation_offset=""]Register Here[/fusion_button]\nForest
  Magic\nDescription:\nPut on some boots and bring your sense of adventure!
  Put on some boots and bring your sense of exploration! This program is de
 signed for children ages 2.5 – 5 accompanied by an adult. Come and learn
  about nature through story time\, art activities\, and outdoor exploratio
 n. This program takes place on the 1st Wednesday and the 1st Saturday of t
 he month from 10 – 11 am.\nProgram Fees:\n$10 per child\, adults attend 
 at no cost\nGet 15% off by becoming a member at the family level!\nRegistr
 ation Required:\nYes\nThings to Bring:\nWater Bottle\nChange of Clothes (o
 ptional)
ATTACH;FMTTYPE=image/jpeg:https://www.thenatureinstitute.org/wp-content/up
 loads/2024/10/Come-and-explore.-Facebook-Event-Cover-Facebook-Post-15.png
CATEGORIES:Early Childhood
LOCATION:The Nature Institute\, 2213 South Levis Lane\, Godfrey\, IL\, 6203
 5\, United States
X-APPLE-STRUCTURED-LOCATION;VALUE=URI;X-ADDRESS=2213 South Levis Lane\, God
 frey\, IL\, 62035\, United States;X-APPLE-RADIUS=100;X-TITLE=The Nature In
 stitute:geo:0,0
END:VEVENT
BEGIN:VTIMEZONE
TZID:America/Chicago
X-LIC-LOCATION:America/Chicago
BEGIN:DAYLIGHT
DTSTART:20250309T030000
TZOFFSETFROM:-0600
TZOFFSETTO:-0500
TZNAME:CDT
END:DAYLIGHT
END:VTIMEZONE
END:VCALENDAR