BEGIN:VCALENDAR
VERSION:2.0
PRODID:-//wp-events-plugin.com//7.2.3.1//EN
TZID:America/Chicago
X-WR-TIMEZONE:America/Chicago
BEGIN:VEVENT
UID:1395@thenatureinstitute.org
DTSTART;TZID=America/Chicago:20230504T203000
DTEND;TZID=America/Chicago:20230504T220000
DTSTAMP:20230110T180104Z
URL:https://www.thenatureinstitute.org/events/may-the-4th/
SUMMARY:May the 4th Be With You at TNI!
DESCRIPTION:Come out to TNI on the night of May 4th to celebrate the Star W
 ars fan in all of us.  We are offering a special Moonlight hike starting 
 at 8:30pm and\, if you want to bring your lightsaber to light your way in 
 the woods\, that is encouraged!  Want to wear a costume?  OK!  Want to 
 pretend you are a Jedi walking through the forests of Endor?  We can talk
 ...\nRegistration is required.  Price is $5 for non-members and free for 
 members.\n\n[gravityform id="105" title="true" description="true" ajax="fa
 lse"][/gravityform]
ATTACH;FMTTYPE=image/jpeg:https://www.thenatureinstitute.org/wp-content/up
 loads/2023/01/2023-Event-Images-2.png
CATEGORIES:Adult,Family,Teen
LOCATION:The Nature Institute\, 2213 South Levis Lane\, Godfrey\, IL\, 6203
 5\, United States
GEO:38.919376;-90.224167
X-APPLE-STRUCTURED-LOCATION;VALUE=URI;X-ADDRESS=2213 South Levis Lane\, God
 frey\, IL\, 62035\, United States;X-APPLE-RADIUS=100;X-TITLE=The Nature In
 stitute:geo:38.919376,-90.224167
END:VEVENT
BEGIN:VTIMEZONE
TZID:America/Chicago
X-LIC-LOCATION:America/Chicago
BEGIN:DAYLIGHT
DTSTART:20230312T030000
TZOFFSETFROM:-0600
TZOFFSETTO:-0500
TZNAME:CDT
END:DAYLIGHT
END:VTIMEZONE
END:VCALENDAR