BEGIN:VCALENDAR
VERSION:2.0
PRODID:-//wp-events-plugin.com//7.2.3.1//EN
TZID:America/Chicago
X-WR-TIMEZONE:America/Chicago
BEGIN:VEVENT
UID:1620@thenatureinstitute.org
DTSTART;TZID=America/Chicago:20240518T110000
DTEND;TZID=America/Chicago:20240518T121500
DTSTAMP:20231206T201007Z
URL:https://www.thenatureinstitute.org/events/mushrooms-with-maxine/
SUMMARY:Mushrooms with Maxine
DESCRIPTION:Join the author of Missouri’s Wild Mushrooms\, Maxine Stone\,
  to learn all about mushroom identification! This program will begin with 
 an indoor presentation and end with a hike to find some mushrooms on the p
 reserve. This program takes place on Saturday\, May 18th at 11 am and will
  last roughly an hour. $5/members and $15/non-members. Pre-registration is
  required and spaces are limited.\n\n[gravityform id="182" title="true" de
 scription="true" ajax="false"][/gravityform]
ATTACH;FMTTYPE=image/jpeg:https://www.thenatureinstitute.org/wp-content/up
 loads/2023/12/Come-and-explore.-21.png
CATEGORIES:Adult
LOCATION:The Nature Institute\, 2213 South Levis Lane\, Godfrey\, IL\, 6203
 5\, United States
GEO:38.919376;-90.224167
X-APPLE-STRUCTURED-LOCATION;VALUE=URI;X-ADDRESS=2213 South Levis Lane\, God
 frey\, IL\, 62035\, United States;X-APPLE-RADIUS=100;X-TITLE=The Nature In
 stitute:geo:38.919376,-90.224167
END:VEVENT
BEGIN:VTIMEZONE
TZID:America/Chicago
X-LIC-LOCATION:America/Chicago
BEGIN:DAYLIGHT
DTSTART:20240310T030000
TZOFFSETFROM:-0600
TZOFFSETTO:-0500
TZNAME:CDT
END:DAYLIGHT
END:VTIMEZONE
END:VCALENDAR