BEGIN:VCALENDAR
VERSION:2.0
PRODID:-//wp-events-plugin.com//7.2.3.1//EN
TZID:America/Chicago
X-WR-TIMEZONE:America/Chicago
BEGIN:VEVENT
UID:1891@thenatureinstitute.org
DTSTART;TZID=America/Chicago:20250320T100000
DTEND;TZID=America/Chicago:20250320T110000
DTSTAMP:20250317T163300Z
URL:https://www.thenatureinstitute.org/events/naturally-curious-book-club-
 2-2025-03-20/
SUMMARY:Naturally Curious Book Club
DESCRIPTION:Book Choice: The Nature of Oaks\nDescription:\n\nJoin us as we 
 slow down to read a book each month. The Nature Institute will host a book
  club each  month featuring authors and titles that give us a deeper unde
 rstanding of the world around us. We will meet to discuss the chosen book.
  We will gather together at the Mississippi Sanctuary Office where we can 
 enjoy a view of the Mississippi River and maybe catch a glimpse of an eagl
 e or two. \n\nProgram Fees:\n\nFree\, donations are appreciated\n\nRegist
 ration Required:\n\nNo\, but preferred (registering gives us the ability t
 o email in case of weather cancellation)\n\nThings to bring: \n\nBook of 
 the Month\n\nNon-alcoholic Beverage of Choice\n\nSnacks to Share\, optiona
 l
CATEGORIES:Adult
LOCATION:Mississippi Sanctuary Office\, 2213 South Levis Lane\, Godfrey\, I
 L\, 62035\, United States
X-APPLE-STRUCTURED-LOCATION;VALUE=URI;X-ADDRESS=2213 South Levis Lane\, God
 frey\, IL\, 62035\, United States;X-APPLE-RADIUS=100;X-TITLE=Mississippi S
 anctuary Office:geo:0,0
END:VEVENT
BEGIN:VTIMEZONE
TZID:America/Chicago
X-LIC-LOCATION:America/Chicago
BEGIN:DAYLIGHT
DTSTART:20250309T030000
TZOFFSETFROM:-0600
TZOFFSETTO:-0500
TZNAME:CDT
END:DAYLIGHT
END:VTIMEZONE
END:VCALENDAR