BEGIN:VCALENDAR
VERSION:2.0
PRODID:-//wp-events-plugin.com//7.2.3.1//EN
TZID:America/Chicago
X-WR-TIMEZONE:America/Chicago
BEGIN:VEVENT
UID:1789@thenatureinstitute.org
DTSTART;TZID=America/Chicago:20240716T090000
DTEND;TZID=America/Chicago:20240716T103000
DTSTAMP:20240417T195258Z
URL:https://www.thenatureinstitute.org/events/nature-journaling-at-tni-2/
SUMMARY:Nature Journaling at TNI
DESCRIPTION:One of the best ways to learn about the natural world is throug
 h your own quiet observations. Join The Nature Institute for a series of N
 ature Journaling walks that will help you to slow down and see what is rig
 ht in front of you. All ages are welcome and no experience is needed. We w
 ill be learning together. Walk will start at 9am and last approximately 1.
 5 hours.\n\nProgram Fees: FREE for Members\, $5/non-member. \n\nOptional 
 Fees: If you would like to purchase a basic nature journaling kit\, there 
 is an additional $12 fee (one time purchase). The Nature Journal Kit inclu
 des a spiral bound blank notebook\, watercolor paints with brush\, fine li
 ne black pen\, magnifying glass\, pencil pouch\, colored pencils\, drawstr
 ing bag\, and a small container for water.\n\nUpcoming Dates:\n\n 	Thursda
 y\, May 23\n 	Tuesday\, June 11\n 	Tuesday\, July 16\n 	Monday\, August 12
 \n 	Tuesday\, September 17\n\n[gravityform id="215" title="true" descripti
 on="true" ajax="false"][/gravityform]
CATEGORIES:Adult
LOCATION:The Nature Institute\, 2213 South Levis Lane\, Godfrey\, IL\, 6203
 5\, United States
GEO:38.919376;-90.224167
X-APPLE-STRUCTURED-LOCATION;VALUE=URI;X-ADDRESS=2213 South Levis Lane\, God
 frey\, IL\, 62035\, United States;X-APPLE-RADIUS=100;X-TITLE=The Nature In
 stitute:geo:38.919376,-90.224167
END:VEVENT
BEGIN:VTIMEZONE
TZID:America/Chicago
X-LIC-LOCATION:America/Chicago
BEGIN:DAYLIGHT
DTSTART:20240310T030000
TZOFFSETFROM:-0600
TZOFFSETTO:-0500
TZNAME:CDT
END:DAYLIGHT
END:VTIMEZONE
END:VCALENDAR