BEGIN:VCALENDAR
VERSION:2.0
PRODID:-//wp-events-plugin.com//7.2.3.1//EN
TZID:America/Chicago
X-WR-TIMEZONE:America/Chicago
BEGIN:VEVENT
UID:2175@thenatureinstitute.org
DTSTART;TZID=America/Chicago:20260404T130000
DTEND;TZID=America/Chicago:20260404T140000
DTSTAMP:20251022T140822Z
URL:https://www.thenatureinstitute.org/events/nonsense-nature-hike-3/
SUMMARY:Nonsense Nature Hike
DESCRIPTION:[fusion_button link="https://app.amilia.com/store/en/nature-ins
 titute/api/Activity/Detail?activityId=kLGOgqd" enable_hover_text_icon="no"
  hover_text="" title="" target="_self" link_attributes="" aria_role_button
 ="0" alignment_medium="" alignment_small="" alignment="" modal="" hide_on_
 mobile="small-visibility\,medium-visibility\,large-visibility" sticky_disp
 lay="normal\,sticky" class="" id="" color="default" button_gradient_top_co
 lor_hover="" hue="" saturation="" lightness="" alpha="" button_gradient_to
 p_color="" button_gradient_bottom_color_hover="" button_gradient_bottom_co
 lor="" gradient_start_position="" gradient_end_position="" gradient_type="
 " radial_direction="" linear_angle="" accent_hover_color="" accent_color="
 " type="" bevel_color="" bevel_color_hover="" border_top="" border_right="
 " border_bottom="" border_left="" border_radius_top_left="" border_radius_
 top_right="" border_radius_bottom_right="" border_radius_bottom_left="" bo
 rder_hover_color="" border_color="" size="" padding_top="" padding_right="
 " padding_bottom="" padding_left="" fusion_font_family_button_font="" fusi
 on_font_variant_button_font="" font_size="" line_height="" letter_spacing=
 "" text_transform="" stretch="default" margin_top="" margin_right="" margi
 n_bottom="" margin_left="" icon="" hover_icon="" icon_position="left" icon
 _divider="no" hover_transition="none" animation_type="" animation_directio
 n="left" animation_color="" animation_speed="0.3" animation_delay="0" anim
 ation_offset=""]Register Here[/fusion_button]\n\nDescription:\nThis hike i
 s not what it seems! This tricky\, family friendly hike will have you iden
 tifying some interesting phenomena in nature. Bring your dad jokes and you
 r sense of humor to this unusual\, April Fool’s Day themed hike.\nProgra
 m Fees:\n$5 for nonmembers\nFree for members\nRegistration Required:\nYes\
 nThings to bring: \nReusable water bottle\nCorny Jokes
ATTACH;FMTTYPE=image/jpeg:https://www.thenatureinstitute.org/wp-content/up
 loads/2023/12/Come-and-explore.-23.png
CATEGORIES:Family
LOCATION:The Nature Institute\, 2213 South Levis Lane\, Godfrey\, IL\, 6203
 5\, United States
X-APPLE-STRUCTURED-LOCATION;VALUE=URI;X-ADDRESS=2213 South Levis Lane\, God
 frey\, IL\, 62035\, United States;X-APPLE-RADIUS=100;X-TITLE=The Nature In
 stitute:geo:0,0
END:VEVENT
BEGIN:VTIMEZONE
TZID:America/Chicago
X-LIC-LOCATION:America/Chicago
BEGIN:DAYLIGHT
DTSTART:20260308T030000
TZOFFSETFROM:-0600
TZOFFSETTO:-0500
TZNAME:CDT
END:DAYLIGHT
END:VTIMEZONE
END:VCALENDAR