BEGIN:VCALENDAR
VERSION:2.0
PRODID:-//wp-events-plugin.com//7.2.3.1//EN
TZID:America/Chicago
X-WR-TIMEZONE:America/Chicago
BEGIN:VEVENT
UID:1622@thenatureinstitute.org
DTSTART;TZID=America/Chicago:20240406T130000
DTEND;TZID=America/Chicago:20240406T140000
DTSTAMP:20231206T220404Z
URL:https://www.thenatureinstitute.org/events/nonsensenature/
SUMMARY:Nonsense Nature Hike
DESCRIPTION:This hike is not what it seems! This tricky\, family friendly h
 ike will have you identifying some interesting phenomena in nature. Bring 
 your dad jokes and your sense of humor to this unusual\, April Fool’s Da
 y themed hike. This program takes place on April 6th starting at 1 pm and 
 lasts about an hour. $5/non-member\, FREE for members. Pre-registration is
  required.\n\n[gravityform id="184" title="true" description="true" ajax="
 false"][/gravityform]
ATTACH;FMTTYPE=image/jpeg:https://www.thenatureinstitute.org/wp-content/up
 loads/2023/12/Come-and-explore.-23.png
CATEGORIES:Family
LOCATION:The Nature Institute\, 2213 South Levis Lane\, Godfrey\, IL\, 6203
 5\, United States
GEO:38.919376;-90.224167
X-APPLE-STRUCTURED-LOCATION;VALUE=URI;X-ADDRESS=2213 South Levis Lane\, God
 frey\, IL\, 62035\, United States;X-APPLE-RADIUS=100;X-TITLE=The Nature In
 stitute:geo:38.919376,-90.224167
END:VEVENT
BEGIN:VTIMEZONE
TZID:America/Chicago
X-LIC-LOCATION:America/Chicago
BEGIN:DAYLIGHT
DTSTART:20240310T030000
TZOFFSETFROM:-0600
TZOFFSETTO:-0500
TZNAME:CDT
END:DAYLIGHT
END:VTIMEZONE
END:VCALENDAR