BEGIN:VCALENDAR
VERSION:2.0
PRODID:-//wp-events-plugin.com//7.2.3.1//EN
TZID:America/Chicago
X-WR-TIMEZONE:America/Chicago
BEGIN:VEVENT
UID:1657@thenatureinstitute.org
DTSTART;TZID=America/Chicago:20250517T090000
DTEND;TZID=America/Chicago:20250517T120000
DTSTAMP:20250317T173330Z
URL:https://www.thenatureinstitute.org/events/plantsale/
SUMMARY:Native Plant Sale
DESCRIPTION:Are you ready to plant natives in your yard this year? Join us 
 on May 18th to purchase some locally grown plants. We will have experts on
  site that can help you pick the right plants for your yard and give you s
 ome practical advice for getting them to thrive.\n\nThe plant sale will ru
 n from 9am to 12pm on Saturday\, May 17th.
ATTACH;FMTTYPE=image/jpeg:https://www.thenatureinstitute.org/wp-content/up
 loads/2023/07/Calendar-of-Events-9.png
CATEGORIES:Adult,Family
LOCATION:The Nature Institute\, 2213 South Levis Lane\, Godfrey\, IL\, 6203
 5\, United States
GEO:38.919376;-90.224167
X-APPLE-STRUCTURED-LOCATION;VALUE=URI;X-ADDRESS=2213 South Levis Lane\, God
 frey\, IL\, 62035\, United States;X-APPLE-RADIUS=100;X-TITLE=The Nature In
 stitute:geo:38.919376,-90.224167
END:VEVENT
BEGIN:VTIMEZONE
TZID:America/Chicago
X-LIC-LOCATION:America/Chicago
BEGIN:DAYLIGHT
DTSTART:20250309T030000
TZOFFSETFROM:-0600
TZOFFSETTO:-0500
TZNAME:CDT
END:DAYLIGHT
END:VTIMEZONE
END:VCALENDAR