BEGIN:VCALENDAR
VERSION:2.0
PRODID:-//wp-events-plugin.com//7.2.3.1//EN
TZID:America/Chicago
X-WR-TIMEZONE:America/Chicago
BEGIN:VEVENT
UID:1400@thenatureinstitute.org
DTSTART;TZID=America/Chicago:20230427T200000
DTEND;TZID=America/Chicago:20230427T230000
DTSTAMP:20230426T162445Z
URL:https://www.thenatureinstitute.org/events/public-domain-on-the-preserv
 e-my-man-godfrey/
SUMMARY:Classis Flicks for Conservation: My Man Godfrey
DESCRIPTION:NOTE: There is rain in the forecast for tomorrow night. If it i
 s raining or is too windy to host the move outdoors\, we will move into Ta
 lahi Lodge. Seating is very  limited. Arrive early to claim your seat. We
  will have to turn away people when capacity is reached.\n\nCozy up with a
  blanket for a movie on the lawn! This free event takes place monthly from
  April through October. Watch a classic movie on our giant inflatable scre
 en. Bring your own seating (lawn chairs or blankets)\, as well as your own
  snacks. No alcohol is permitted. See below for our upcoming presentations
 . No pre-registration required. While this event is FREE\, donations are w
 elcome! Limited parking is available\, so arrive early to grab your seat.\
 n\nLearn More Here
CATEGORIES:Adult,Family
LOCATION:The Nature Institute\, 2213 South Levis Lane\, Godfrey\, IL\, 6203
 5\, United States
GEO:38.919376;-90.224167
X-APPLE-STRUCTURED-LOCATION;VALUE=URI;X-ADDRESS=2213 South Levis Lane\, God
 frey\, IL\, 62035\, United States;X-APPLE-RADIUS=100;X-TITLE=The Nature In
 stitute:geo:38.919376,-90.224167
END:VEVENT
BEGIN:VTIMEZONE
TZID:America/Chicago
X-LIC-LOCATION:America/Chicago
BEGIN:DAYLIGHT
DTSTART:20230312T030000
TZOFFSETFROM:-0600
TZOFFSETTO:-0500
TZNAME:CDT
END:DAYLIGHT
END:VTIMEZONE
END:VCALENDAR