BEGIN:VCALENDAR
VERSION:2.0
PRODID:-//wp-events-plugin.com//7.2.3.1//EN
TZID:America/Chicago
X-WR-TIMEZONE:America/Chicago
BEGIN:VEVENT
UID:1406@thenatureinstitute.org
DTSTART;TZID=America/Chicago:20230825T210000
DTEND;TZID=America/Chicago:20230825T234500
DTSTAMP:20230821T173008Z
URL:https://www.thenatureinstitute.org/events/public-domain-on-the-preserv
 e-one-eyed-jacks-2/
SUMMARY:Classic Flicks for Conservation: One Eyed Jacks
DESCRIPTION:Cozy up with a blanket for a movie on the lawn! This free event
  takes place monthly from April through October. Watch a classic movie on 
 our giant inflatable screen. Bring your own seating (lawn chairs or blanke
 ts)\, as well as your own snacks. No alcohol is permitted. See below for o
 ur upcoming presentations. No pre-registration required. While this event 
 is FREE\, donations are welcome! Limited parking is available\, so arrive 
 early to grab your seat.\n\nLearn More Here
CATEGORIES:Adult,Family
LOCATION:The Nature Institute\, 2213 South Levis Lane\, Godfrey\, IL\, 6203
 5\, United States
GEO:38.919376;-90.224167
X-APPLE-STRUCTURED-LOCATION;VALUE=URI;X-ADDRESS=2213 South Levis Lane\, God
 frey\, IL\, 62035\, United States;X-APPLE-RADIUS=100;X-TITLE=The Nature In
 stitute:geo:38.919376,-90.224167
END:VEVENT
BEGIN:VTIMEZONE
TZID:America/Chicago
X-LIC-LOCATION:America/Chicago
BEGIN:DAYLIGHT
DTSTART:20230312T030000
TZOFFSETFROM:-0600
TZOFFSETTO:-0500
TZNAME:CDT
END:DAYLIGHT
END:VTIMEZONE
END:VCALENDAR