BEGIN:VCALENDAR
VERSION:2.0
PRODID:-//wp-events-plugin.com//7.2.3.1//EN
TZID:America/Chicago
X-WR-TIMEZONE:America/Chicago
BEGIN:VEVENT
UID:2055@thenatureinstitute.org
DTSTART;TZID=America/Chicago:20250909T090000
DTEND;TZID=America/Chicago:20250909T101500
DTSTAMP:20250715T133857Z
URL:https://www.thenatureinstitute.org/events/roaming-naturalists-3-2025-0
 9-09/
SUMMARY:Roaming Naturalists: Native Fall Fruits
DESCRIPTION:[fusion_button link="https://app.amilia.com/store/en/nature-ins
 titute/api/Activity/Detail?activityId=b8wLBmG" enable_hover_text_icon="no"
  hover_text="" title="" target="_self" link_attributes="" aria_role_button
 ="0" alignment_medium="" alignment_small="" alignment="" modal="" hide_on_
 mobile="small-visibility\,medium-visibility\,large-visibility" sticky_disp
 lay="normal\,sticky" class="" id="" color="default" button_gradient_top_co
 lor_hover="" hue="" saturation="" lightness="" alpha="" button_gradient_to
 p_color="" button_gradient_bottom_color_hover="" button_gradient_bottom_co
 lor="" gradient_start_position="" gradient_end_position="" gradient_type="
 " radial_direction="" linear_angle="" accent_hover_color="" accent_color="
 " type="" bevel_color="" bevel_color_hover="" border_top="" border_right="
 " border_bottom="" border_left="" border_radius_top_left="" border_radius_
 top_right="" border_radius_bottom_right="" border_radius_bottom_left="" bo
 rder_hover_color="" border_color="" size="" padding_top="" padding_right="
 " padding_bottom="" padding_left="" fusion_font_family_button_font="" fusi
 on_font_variant_button_font="" font_size="" line_height="" letter_spacing=
 "" text_transform="" stretch="default" margin_top="" margin_right="" margi
 n_bottom="" margin_left="" icon="" hover_icon="" icon_position="left" icon
 _divider="no" hover_transition="none" animation_type="" animation_directio
 n="left" animation_color="" animation_speed="0.3" animation_delay="0" anim
 ation_offset=""]Register Here[/fusion_button]\nNative Fall Fruits\nFall is
  when the fruit is ripe. Let’s hike around and see if we can find any fr
 uits to try along the trails.\nDescription:\nRoaming Naturalists is a mont
 hly hike designed for adults (all ages welcome) that want to learn more ab
 out the natural world. Topics will range from birds to plants to insects a
 nd beyond. While each hike will have a topic of focus\, we will allow the 
 interest of the group and the surprises that nature throws at us to determ
 ine what we learn on our hike.\nMeet your guide at the trail head parking 
 lot. Hikes will range from 1-2 miles (rarely 3 miles) and easy to moderate
  terrain. These hikes will occur rain or shine. In the event of icy condit
 ions\, or excessive snow\, the hike may be canceled. The Nature Institute 
 closes for the weather when Alton Public Schools close.\nProgram Fees:\nFr
 ee\, but donations are appreciated\nRegistration Required:\nNo\, but prefe
 rred (You will receive a reminder email if you register ahead of time.)\nT
 hings to bring: \nReusable water bottle\nBug spray \nDress in layers\nAp
 propriate footwear
ATTACH;FMTTYPE=image/jpeg:https://www.thenatureinstitute.org/wp-content/up
 loads/2023/10/Outdoor-Escape-Room-36.png
CATEGORIES:Adult,Family
LOCATION:The Nature Institute\, 2213 South Levis Lane\, Godfrey\, IL\, 6203
 5\, United States
GEO:38.919376;-90.224167
X-APPLE-STRUCTURED-LOCATION;VALUE=URI;X-ADDRESS=2213 South Levis Lane\, God
 frey\, IL\, 62035\, United States;X-APPLE-RADIUS=100;X-TITLE=The Nature In
 stitute:geo:38.919376,-90.224167
END:VEVENT
BEGIN:VTIMEZONE
TZID:America/Chicago
X-LIC-LOCATION:America/Chicago
BEGIN:DAYLIGHT
DTSTART:20250309T030000
TZOFFSETFROM:-0600
TZOFFSETTO:-0500
TZNAME:CDT
END:DAYLIGHT
END:VTIMEZONE
END:VCALENDAR