BEGIN:VCALENDAR
VERSION:2.0
PRODID:-//wp-events-plugin.com//7.2.3.1//EN
TZID:America/Chicago
X-WR-TIMEZONE:America/Chicago
BEGIN:VEVENT
UID:1640@thenatureinstitute.org
DTSTART;TZID=America/Chicago:20241019T190000
DTEND;TZID=America/Chicago:20241019T203000
DTSTAMP:20240123T195930Z
URL:https://www.thenatureinstitute.org/events/robotmonster/
SUMMARY:Classic Flicks for Conservation: Robot Monster
DESCRIPTION:Transformers\, those robots in disguise\,  turn 40 this year\,
  so cozy up with a blanket for a movie on the lawn and celebrate these fil
 ms featuring robots! This free event takes place monthly from April throug
 h October. Watch a classic movie on our giant inflatable screen. Bring you
 r own seating (lawn chairs or blankets)\, as well as your own snacks. No a
 lcohol is permitted. See below for our upcoming presentations. No pre-regi
 stration required. While this event is FREE\, donations are welcome! Limit
 ed parking is available\, so arrive early to grab your seat.\n\nAll movies
  this year will feature an episode of the 1939 movie serial “The Phantom
  Creeps” as a pre-film short.\n\n 	October 19th at 7 PM: Robot Monster\n
 \nLearn more about each film here.
ATTACH;FMTTYPE=image/jpeg:https://www.thenatureinstitute.org/wp-content/up
 loads/2024/01/come-watch-with-us-7.png
CATEGORIES:Adult,Family
LOCATION:The Nature Institute\, 2213 South Levis Lane\, Godfrey\, IL\, 6203
 5\, United States
GEO:38.919376;-90.224167
X-APPLE-STRUCTURED-LOCATION;VALUE=URI;X-ADDRESS=2213 South Levis Lane\, God
 frey\, IL\, 62035\, United States;X-APPLE-RADIUS=100;X-TITLE=The Nature In
 stitute:geo:38.919376,-90.224167
END:VEVENT
BEGIN:VTIMEZONE
TZID:America/Chicago
X-LIC-LOCATION:America/Chicago
BEGIN:DAYLIGHT
DTSTART:20240310T030000
TZOFFSETFROM:-0600
TZOFFSETTO:-0500
TZNAME:CDT
END:DAYLIGHT
END:VTIMEZONE
END:VCALENDAR