BEGIN:VCALENDAR
VERSION:2.0
PRODID:-//wp-events-plugin.com//7.2.3.1//EN
TZID:America/Chicago
X-WR-TIMEZONE:America/Chicago
BEGIN:VEVENT
UID:2126@thenatureinstitute.org
DTSTART;TZID=America/Chicago:20260408T130000
DTEND;TZID=America/Chicago:20260408T150000
DTSTAMP:20251015T210007Z
URL:https://www.thenatureinstitute.org/events/seed-study/
SUMMARY:ECO Homeschool Adventures: Seed Study (6th - 12th)
DESCRIPTION:[fusion_button link="https://app.amilia.com/store/en/nature-ins
 titute/api/Activity/Detail?activityId=yn6qPEV" enable_hover_text_icon="no"
  hover_text="" title="" target="_self" link_attributes="" aria_role_button
 ="0" alignment_medium="" alignment_small="" alignment="" modal="" hide_on_
 mobile="small-visibility\,medium-visibility\,large-visibility" sticky_disp
 lay="normal\,sticky" class="" id="" color="default" button_gradient_top_co
 lor_hover="" hue="" saturation="" lightness="" alpha="" button_gradient_to
 p_color="" button_gradient_bottom_color_hover="" button_gradient_bottom_co
 lor="" gradient_start_position="" gradient_end_position="" gradient_type="
 " radial_direction="" linear_angle="" accent_hover_color="" accent_color="
 " type="" bevel_color="" bevel_color_hover="" border_top="" border_right="
 " border_bottom="" border_left="" border_radius_top_left="" border_radius_
 top_right="" border_radius_bottom_right="" border_radius_bottom_left="" bo
 rder_hover_color="" border_color="" size="" padding_top="" padding_right="
 " padding_bottom="" padding_left="" fusion_font_family_button_font="" fusi
 on_font_variant_button_font="" font_size="" line_height="" letter_spacing=
 "" text_transform="" stretch="default" margin_top="" margin_right="" margi
 n_bottom="" margin_left="" icon="" hover_icon="" icon_position="left" icon
 _divider="no" hover_transition="none" animation_type="" animation_directio
 n="left" animation_color="" animation_speed="0.3" animation_delay="0" anim
 ation_offset=""]Register Here[/fusion_button]\nSeed Study\nInvestigate the
  science of seeds. Learn about ways that seeds travel\, compare &amp\; con
 trast different types of seed\, and help us destroy some invasive seeds!\n
 Description:\nCalling all homeschool families! This program takes place on
  select Wednesdays. Our Middle &amp\; High School session meets from 1 –
  3 pm. Sessions fill up quickly\, so be sure to register early for your pr
 eferred dates. \nOur sessions may include hikes\, nature exploration\, ga
 mes\, experiments\, art projects\, or scientific surveys.  Topics rotate 
 each month and sessions are offered September through May.\nOur Middle &am
 p\; High School sessions are drop-off only. 4 child minimum\, 16 child max
  for MS/HS sessions.\nProgram Fees:\n$15/child\nGet 15% off by becoming a 
 member at the family level!\nRegistration Required:\nYes\nThings to Bring:
 \nWater Bottle\n\n\n 	\n\n&nbsp\;\n\n&nbsp\;
CATEGORIES:Teen
LOCATION:The Nature Institute\, 2213 South Levis Lane\, Godfrey\, IL\, 6203
 5\, United States
GEO:38.919376;-90.224167
X-APPLE-STRUCTURED-LOCATION;VALUE=URI;X-ADDRESS=2213 South Levis Lane\, God
 frey\, IL\, 62035\, United States;X-APPLE-RADIUS=100;X-TITLE=The Nature In
 stitute:geo:38.919376,-90.224167
END:VEVENT
BEGIN:VTIMEZONE
TZID:America/Chicago
X-LIC-LOCATION:America/Chicago
BEGIN:DAYLIGHT
DTSTART:20260308T030000
TZOFFSETFROM:-0600
TZOFFSETTO:-0500
TZNAME:CDT
END:DAYLIGHT
END:VTIMEZONE
END:VCALENDAR