BEGIN:VCALENDAR
VERSION:2.0
PRODID:-//wp-events-plugin.com//7.2.3.1//EN
TZID:America/Chicago
X-WR-TIMEZONE:America/Chicago
BEGIN:VEVENT
UID:1658@thenatureinstitute.org
DTSTART;TZID=America/Chicago:20240606T210000
DTEND;TZID=America/Chicago:20240606T230000
DTSTAMP:20240325T193223Z
URL:https://www.thenatureinstitute.org/events/telescopejune/
SUMMARY:Telescope Night
DESCRIPTION:Have an old telescope laying around\, but never use it?  Alway
 s wanted to look at the universe through a telescope\, but don’t own one
 ?  You are in luck!  Come on out to the Talahi Lodge on the night after 
 a full moon and we will have some set up.  You can also bring your own an
 d we can help you use it.  We will talk about how telescopes work and loo
 k at the moon and other night sky objects.  \n\nSpace is limited\, regis
 tration required.\n\nLearn More Here\n\nFree for members\, $5 for non-memb
 ers\n\n[gravityform id="141" title="true" description="true" ajax="false"]
 [/gravityform]
ATTACH;FMTTYPE=image/jpeg:https://www.thenatureinstitute.org/wp-content/up
 loads/2021/11/7.png
CATEGORIES:Adult,Family
LOCATION:The Nature Institute\, 2213 South Levis Lane\, Godfrey\, IL\, 6203
 5\, United States
GEO:38.919376;-90.224167
X-APPLE-STRUCTURED-LOCATION;VALUE=URI;X-ADDRESS=2213 South Levis Lane\, God
 frey\, IL\, 62035\, United States;X-APPLE-RADIUS=100;X-TITLE=The Nature In
 stitute:geo:38.919376,-90.224167
END:VEVENT
BEGIN:VTIMEZONE
TZID:America/Chicago
X-LIC-LOCATION:America/Chicago
BEGIN:DAYLIGHT
DTSTART:20240310T030000
TZOFFSETFROM:-0600
TZOFFSETTO:-0500
TZNAME:CDT
END:DAYLIGHT
END:VTIMEZONE
END:VCALENDAR