BEGIN:VCALENDAR
VERSION:2.0
PRODID:-//wp-events-plugin.com//7.2.3.1//EN
TZID:America/Chicago
X-WR-TIMEZONE:America/Chicago
BEGIN:VEVENT
UID:2077@thenatureinstitute.org
DTSTART;TZID=America/Chicago:20251014T090000
DTEND;TZID=America/Chicago:20251014T110000
DTSTAMP:20250617T163236Z
URL:https://www.thenatureinstitute.org/events/tiny-trekkers-wild-math-2025
 -10-14/
SUMMARY:Tiny Trekkers: Wild Math
DESCRIPTION:[fusion_button link="https://app.amilia.com/store/en/nature-ins
 titute/api/Activity/Detail?activityId=yGM8VOj" enable_hover_text_icon="no"
  hover_text="" title="" target="_self" link_attributes="" aria_role_button
 ="0" alignment_medium="" alignment_small="" alignment="" modal="" hide_on_
 mobile="small-visibility\,medium-visibility\,large-visibility" sticky_disp
 lay="normal\,sticky" class="" id="" color="default" button_gradient_top_co
 lor_hover="" hue="" saturation="" lightness="" alpha="" button_gradient_to
 p_color="" button_gradient_bottom_color_hover="" button_gradient_bottom_co
 lor="" gradient_start_position="" gradient_end_position="" gradient_type="
 " radial_direction="" linear_angle="" accent_hover_color="" accent_color="
 " type="" bevel_color="" bevel_color_hover="" border_top="" border_right="
 " border_bottom="" border_left="" border_radius_top_left="" border_radius_
 top_right="" border_radius_bottom_right="" border_radius_bottom_left="" bo
 rder_hover_color="" border_color="" size="" padding_top="" padding_right="
 " padding_bottom="" padding_left="" fusion_font_family_button_font="" fusi
 on_font_variant_button_font="" font_size="" line_height="" letter_spacing=
 "" text_transform="" stretch="default" margin_top="" margin_right="" margi
 n_bottom="" margin_left="" icon="" hover_icon="" icon_position="left" icon
 _divider="no" hover_transition="none" animation_type="" animation_directio
 n="left" animation_color="" animation_speed="0.3" animation_delay="0" anim
 ation_offset=""]Register Here[/fusion_button]\nWild Math\nDescription:\n\n
 Tiny Trekkers is a once a week drop off program for ages 3 - 5. Registrati
 on is offered by the month only\, single class registrations are not permi
 tted. Preschoolers will explore nearly 500 acres of preserve through hands
 -on experiences out in nature. Spots are limited. \n\n Children must be 
 able to use the restrooms independently. Please see our Tiny Trekkers page
  for more details. 4 child minimum per session\, 8 child max per session.\
 n\nTuition: $25 per class\, billed by the month (example: 4 classes = $100
 /month)\n\n 	Tuition is not adjusted/pro-rated/refunded for missed classes
 . The billing months are already adjusted for holidays.\n 	Installment pay
 ments are available for sessions.\n 	Pricing per month is based on the num
 ber of sessions in the month.\n 	Members receive 15% off all program fees.
 \n\nRegistration Required:\n\nYes\n\n&nbsp\;
ATTACH;FMTTYPE=image/jpeg:https://www.thenatureinstitute.org/wp-content/up
 loads/2025/06/2-2.png
CATEGORIES:Early Childhood
LOCATION:The Nature Institute\, 2213 South Levis Lane\, Godfrey\, IL\, 6203
 5\, United States
GEO:38.919376;-90.224167
X-APPLE-STRUCTURED-LOCATION;VALUE=URI;X-ADDRESS=2213 South Levis Lane\, God
 frey\, IL\, 62035\, United States;X-APPLE-RADIUS=100;X-TITLE=The Nature In
 stitute:geo:38.919376,-90.224167
END:VEVENT
BEGIN:VTIMEZONE
TZID:America/Chicago
X-LIC-LOCATION:America/Chicago
BEGIN:DAYLIGHT
DTSTART:20250309T030000
TZOFFSETFROM:-0600
TZOFFSETTO:-0500
TZNAME:CDT
END:DAYLIGHT
END:VTIMEZONE
END:VCALENDAR