BEGIN:VCALENDAR
VERSION:2.0
PRODID:-//wp-events-plugin.com//7.2.3.1//EN
TZID:America/Chicago
X-WR-TIMEZONE:America/Chicago
BEGIN:VEVENT
UID:1538@thenatureinstitute.org
DTSTART;TZID=America/Chicago:20230919T173000
DTEND;TZID=America/Chicago:20230919T183000
DTSTAMP:20230831T165527Z
URL:https://www.thenatureinstitute.org/events/tni-members-only-edible-plan
 ts-for-beginners/
SUMMARY:TNI Members Only: Edible Plants for Beginners
DESCRIPTION:The beginnings of fall bring many delicious snacks! Join our ed
 ucation staff for a leisurely hike to learn (and taste) the many edible pl
 ants out on the preserve. You’ll learn the basics of plant ID and then f
 ind some of the fall edibles out in the forest. This hike takes place on 
 Tuesday\, September 19th from 5:30 – 6:30 pm and is appropriate for ag
 es 10 and up.\n\nThis program is open to TNI members only (all levels) and
  is completely free. Pre-registration is required.\n\nRegister Here. 
END:VEVENT
BEGIN:VTIMEZONE
TZID:America/Chicago
X-LIC-LOCATION:America/Chicago
BEGIN:DAYLIGHT
DTSTART:20230312T030000
TZOFFSETFROM:-0600
TZOFFSETTO:-0500
TZNAME:CDT
END:DAYLIGHT
END:VTIMEZONE
END:VCALENDAR