BEGIN:VCALENDAR
VERSION:2.0
PRODID:-//wp-events-plugin.com//7.2.3.1//EN
TZID:America/Chicago
X-WR-TIMEZONE:America/Chicago
BEGIN:VEVENT
UID:1397@thenatureinstitute.org
DTSTART;TZID=America/Chicago:20230204T100000
DTEND;TZID=America/Chicago:20230204T113000
DTSTAMP:20230123T150158Z
URL:https://www.thenatureinstitute.org/events/winter-tree-id-2/
SUMMARY:Winter Tree ID
DESCRIPTION:Learn to ID trees from their bark\, buds\, and branching!\n\nTh
 is public program takes place on Saturday\, February 4th at 10 am and is l
 ed by a naturalist. $5/person. FREE for members. Program runs between 1 - 
 1.5 hours. \n\nIf this date does not work out for you or you have a group 
 wanting to learn together\, see our private guided hikes to schedule your 
 own private Winter Tree ID program.\n\n[gravityform id="162" title="true" 
 description="true" ajax="false"][/gravityform]\n\n&nbsp\;
ATTACH;FMTTYPE=image/jpeg:https://www.thenatureinstitute.org/wp-content/up
 loads/2022/09/23.png
CATEGORIES:Adult,Teen
LOCATION:The Nature Institute\, 2213 South Levis Lane\, Godfrey\, IL\, 6203
 5\, United States
GEO:38.919376;-90.224167
X-APPLE-STRUCTURED-LOCATION;VALUE=URI;X-ADDRESS=2213 South Levis Lane\, God
 frey\, IL\, 62035\, United States;X-APPLE-RADIUS=100;X-TITLE=The Nature In
 stitute:geo:38.919376,-90.224167
END:VEVENT
BEGIN:VTIMEZONE
TZID:America/Chicago
X-LIC-LOCATION:America/Chicago
BEGIN:STANDARD
DTSTART:20221106T010000
TZOFFSETFROM:-0500
TZOFFSETTO:-0600
TZNAME:CST
END:STANDARD
END:VTIMEZONE
END:VCALENDAR