BEGIN:VCALENDAR
VERSION:2.0
PRODID:-//wp-events-plugin.com//7.2.3.1//EN
TZID:America/Chicago
X-WR-TIMEZONE:America/Chicago
BEGIN:VEVENT
UID:2309@thenatureinstitute.org
DTSTART;TZID=America/Chicago:20260316T190000
DTEND;TZID=America/Chicago:20260316T203000
DTSTAMP:20260128T214742Z
URL:https://www.thenatureinstitute.org/events/woodcock-walk/
SUMMARY:Woodcock Walk
DESCRIPTION:[fusion_button link="https://app.amilia.com/store/en/nature-ins
 titute/api/Activity/Detail?activityId=yvzYOrK" enable_hover_text_icon="no"
  hover_text="" title="" target="_self" link_attributes="" aria_role_button
 ="0" alignment_medium="" alignment_small="" alignment="" modal="" hide_on_
 mobile="small-visibility\,medium-visibility\,large-visibility" sticky_disp
 lay="normal\,sticky" class="" id="" html_attributes="W10=" color="default"
  button_gradient_top_color_hover="" hue="" saturation="" lightness="" alph
 a="" button_gradient_top_color="" button_gradient_bottom_color_hover="" bu
 tton_gradient_bottom_color="" gradient_start_position="" gradient_end_posi
 tion="" gradient_type="" radial_direction="" linear_angle="" accent_hover_
 color="" accent_color="" type="" bevel_color="" bevel_color_hover="" borde
 r_top="" border_right="" border_bottom="" border_left="" border_radius_top
 _left="" border_radius_top_right="" border_radius_bottom_right="" border_r
 adius_bottom_left="" border_hover_color="" border_color="" size="" padding
 _top="" padding_right="" padding_bottom="" padding_left="" fusion_font_fam
 ily_button_font="" fusion_font_variant_button_font="" font_size="" line_he
 ight="" letter_spacing="" text_transform="" stretch="default" margin_top="
 " margin_right="" margin_bottom="" margin_left="" icon="" hover_icon="" ic
 on_position="left" icon_divider="no" hover_transition="none" render_logics
 ="" animation_type="" animation_direction="left" animation_color="" animat
 ion_speed="0.3" animation_delay="0" animation_offset=""]Register Here[/fus
 ion_button]\n\nDiscover the Elusive American Woodcock in Early Spring\n\nE
 arly spring on the prairie is the perfect time to encounter an elusive nat
 ive of Illinois. Join TNI educators for a serene walk as we listen for the
  mating calls and subtle movements of the well-camouflaged American Woodco
 ck\, also affectionately known as the Timber Doodle.\n\nAbout the American
  Woodcock\n\nThese medium-sized shorebirds\, often referred to as Bog Suck
 ers\, possess:\n\n 	A long beak ideal for digging up earthworms\n 	Short\,
  stout legs for navigating the forest floor\n\nWhile they are seldom seen 
 or heard\, early spring brings the opportunity to catch the distinctive bu
 zzy “peent” of male Woodcocks calling to attract females\, along with 
 the whistling flutter of their wings during their elaborate mating display
 s.\n\nEvent Details\n\nThis hike will feature:\n\n 	A slow\, quiet journey
  to the edge of the prairie\n 	A period of stillness to listen intently fo
 r these shy birds\n\nGiven that soft voices and careful movements enhance 
 our chances of spotting and hearing them\, this nighttime program is suita
 ble for children aged 9 and older.\n\nWhat to Bring:\n\n 	A flashlight wit
 h a red filter (optional)\n 	Warm clothing for a potentially cool evening 
 outdoors\n\nThe hike will be flat and easy\, though some areas may have un
 even terrain.\n\nCost: $10 per person (members: Free)
ATTACH;FMTTYPE=image/jpeg:https://www.thenatureinstitute.org/wp-content/up
 loads/2026/01/Amilia-Activity-Images-Adult-and-Family-18.png
CATEGORIES:Family
LOCATION:The Nature Institute\, 2213 South Levis Lane\, Godfrey\, IL\, 6203
 5\, United States
GEO:38.919376;-90.224167
X-APPLE-STRUCTURED-LOCATION;VALUE=URI;X-ADDRESS=2213 South Levis Lane\, God
 frey\, IL\, 62035\, United States;X-APPLE-RADIUS=100;X-TITLE=The Nature In
 stitute:geo:38.919376,-90.224167
END:VEVENT
BEGIN:VTIMEZONE
TZID:America/Chicago
X-LIC-LOCATION:America/Chicago
BEGIN:DAYLIGHT
DTSTART:20260308T030000
TZOFFSETFROM:-0600
TZOFFSETTO:-0500
TZNAME:CDT
END:DAYLIGHT
END:VTIMEZONE
END:VCALENDAR