BEGIN:VCALENDAR
VERSION:2.0
PRODID:-//wp-events-plugin.com//7.2.3.1//EN
TZID:America/Chicago
X-WR-TIMEZONE:America/Chicago
BEGIN:VEVENT
UID:2295@thenatureinstitute.org
DTSTART;TZID=America/Chicago;VALUE=DATE:20251215
DTEND;TZID=America/Chicago;VALUE=DATE:20260401
DTSTAMP:20251201T153832Z
URL:https://www.thenatureinstitute.org/events/yearly-trail-closure/
SUMMARY:Yearly Trail Closure
DESCRIPTION:The Nature Institute's trails take a yearly hiatus from Decembe
 r 15-April 1. This means the trails are not available for regular hiking.\
 n\nHowever\, The Nature Institute will continue to host programs throughou
 t this closed period. Be sure to check out our upcoming programs and get y
 our nature fix with a little education.
ATTACH;FMTTYPE=image/jpeg:https://www.thenatureinstitute.org/wp-content/up
 loads/2025/12/Starting-December-15-1.png
CATEGORIES:Notification
LOCATION:The Nature Institute\, 2213 South Levis Lane\, Godfrey\, IL\, 6203
 5\, United States
X-APPLE-STRUCTURED-LOCATION;VALUE=URI;X-ADDRESS=2213 South Levis Lane\, God
 frey\, IL\, 62035\, United States;X-APPLE-RADIUS=100;X-TITLE=The Nature In
 stitute:geo:0,0
END:VEVENT
BEGIN:VTIMEZONE
TZID:America/Chicago
X-LIC-LOCATION:America/Chicago
BEGIN:STANDARD
DTSTART:20251102T010000
TZOFFSETFROM:-0500
TZOFFSETTO:-0600
TZNAME:CST
END:STANDARD
BEGIN:DAYLIGHT
DTSTART:20260308T030000
TZOFFSETFROM:-0600
TZOFFSETTO:-0500
TZNAME:CDT
END:DAYLIGHT
END:VTIMEZONE
END:VCALENDAR